BEGIN:VCALENDAR
VERSION:2.0
PRODID:-//All UX Research Events - ECPv6.14.2//NONSGML v1.0//EN
CALSCALE:GREGORIAN
METHOD:PUBLISH
X-WR-CALNAME:All UX Research Events
X-ORIGINAL-URL:https://usercalendar.com
X-WR-CALDESC:Events for All UX Research Events
REFRESH-INTERVAL;VALUE=DURATION:PT1H
X-Robots-Tag:noindex
X-PUBLISHED-TTL:PT1H
BEGIN:VTIMEZONE
TZID:America/New_York
BEGIN:DAYLIGHT
TZOFFSETFROM:-0500
TZOFFSETTO:-0400
TZNAME:EDT
DTSTART:20250309T070000
END:DAYLIGHT
BEGIN:STANDARD
TZOFFSETFROM:-0400
TZOFFSETTO:-0500
TZNAME:EST
DTSTART:20251102T060000
END:STANDARD
END:VTIMEZONE
BEGIN:VEVENT
DTSTART;TZID=America/New_York:20250512T140000
DTEND;TZID=America/New_York:20250514T170000
DTSTAMP:20260423T101426
CREATED:20250402T123457Z
LAST-MODIFIED:20250402T135443Z
UID:10000205-1747058400-1747242000@usercalendar.com
SUMMARY:ReConnect - a retreat for Research Leaders
DESCRIPTION:[URL of this listing: https://usercalendar.com/event/reconnect-a-retreat-for-research-leaders/]  \nBreak free from the ordinary. This intimate retreat\, capped at 15 UX Research leaders\, goes beyond traditional training. It’s a guided exploration alongside your peers\, fostering self-discovery and collaboration. \n\n\nThrough a guided process of self-reflection and peer-to-peer coaching\, you’ll work towards the following objectives: \n\nSharpen your vision. Delve into your core values and leadership strengths to chart a course for impactful research.\nCraft your future. Uncover what truly matters for your research leadership practice\, shaping its trajectory and maximising your influence.\nAmplify your impact. Connect with a like-minded group of leaders\, forging powerful connections to fuel collective growth.\n\nRegister!
URL:https://usercalendar.com/event/reconnect-a-retreat-for-research-leaders/
LOCATION:yugen forrest\, Vossemeerdijk 6\, Dronten\, 8251 PN\, Netherlands
CATEGORIES:Career Development,Conferences & Summits
ATTACH;FMTTYPE=image/png:https://usercalendar.com/wp-content/uploads/2025/03/1.png
ORGANIZER;CN="Grow &amp%3B Connect":MAILTO:kathleen@growandconnect.org
END:VEVENT
END:VCALENDAR