BEGIN:VCALENDAR
VERSION:2.0
PRODID:-//All UX Research Events - ECPv6.14.2//NONSGML v1.0//EN
CALSCALE:GREGORIAN
METHOD:PUBLISH
X-WR-CALNAME:All UX Research Events
X-ORIGINAL-URL:https://usercalendar.com
X-WR-CALDESC:Events for All UX Research Events
REFRESH-INTERVAL;VALUE=DURATION:PT1H
X-Robots-Tag:noindex
X-PUBLISHED-TTL:PT1H
BEGIN:VTIMEZONE
TZID:America/New_York
BEGIN:DAYLIGHT
TZOFFSETFROM:-0500
TZOFFSETTO:-0400
TZNAME:EDT
DTSTART:20250309T070000
END:DAYLIGHT
BEGIN:STANDARD
TZOFFSETFROM:-0400
TZOFFSETTO:-0500
TZNAME:EST
DTSTART:20251102T060000
END:STANDARD
END:VTIMEZONE
BEGIN:VEVENT
DTSTART;TZID=America/New_York:20250721T160000
DTEND;TZID=America/New_York:20250721T170000
DTSTAMP:20260423T061822
CREATED:20250715T094633Z
LAST-MODIFIED:20250715T094639Z
UID:10000234-1753113600-1753117200@usercalendar.com
SUMMARY:People + Environment: How ResearchOps is Evolving in the Age of AI
DESCRIPTION:[URL of this listing: https://usercalendar.com/event/people-environment-how-researchops-is-evolving-in-the-age-of-ai/] \n\n\n\n​It’s been 8 years since the original 8 Pillars of User Research helped shape the foundation of ResearchOps. Now\, with the rise of AI\, evolving team structures\, and the growing pressure to democratize research\, the field is shifting rapidly — and so are the people and environments that shape it. \n\n\n\n​In the kickoff of our 5-part series\, 8 Pillars\, 8 Years Later\, join ReOps OGs and community leaders Emma Boulton and Holly Cole as we explore how the “People” and “Environment” pillars have evolved: \n\n\n\n\n​How have the roles\, responsibilities\, and career paths of research practitioners evolved?\n\n\n\n​How are research environments evolving in response to AI?\n\n\n\n​Can ResearchOps practitioners stay ahead while avoiding burnout?\n\n\n\n​And how do we make space for both structure and experimentation in modern research orgs?\n\n\n\n\n​This conversation is all about people\, purpose\, and possibility. \n\n\n\n​Featuring \n\n\n\n\n​Emma Boulton\, Design & UX Leader\, and the founding voice of the original 8 Pillars\n\n\n\n​Holly Cole\, Executive Director of the ResearchOps Community\n\n\n\n\n​Hosted by: The ReOps Community & Great QuestionModerated by: Benson Low\, ResearchOps Community \n\n\n\nRegister for free!
URL:https://usercalendar.com/event/people-environment-how-researchops-is-evolving-in-the-age-of-ai/
CATEGORIES:Webinars
ATTACH;FMTTYPE=image/png:https://usercalendar.com/wp-content/uploads/2025/07/Frame-3-scaled.png
END:VEVENT
END:VCALENDAR