BEGIN:VCALENDAR
VERSION:2.0
PRODID:-//All UX Research Events - ECPv6.14.2//NONSGML v1.0//EN
CALSCALE:GREGORIAN
METHOD:PUBLISH
X-WR-CALNAME:All UX Research Events
X-ORIGINAL-URL:https://usercalendar.com
X-WR-CALDESC:Events for All UX Research Events
REFRESH-INTERVAL;VALUE=DURATION:PT1H
X-Robots-Tag:noindex
X-PUBLISHED-TTL:PT1H
BEGIN:VTIMEZONE
TZID:America/New_York
BEGIN:DAYLIGHT
TZOFFSETFROM:-0500
TZOFFSETTO:-0400
TZNAME:EDT
DTSTART:20250309T070000
END:DAYLIGHT
BEGIN:STANDARD
TZOFFSETFROM:-0400
TZOFFSETTO:-0500
TZNAME:EST
DTSTART:20251102T060000
END:STANDARD
END:VTIMEZONE
BEGIN:VEVENT
DTSTART;TZID=America/New_York:20250828T140000
DTEND;TZID=America/New_York:20250828T150000
DTSTAMP:20260420T005330
CREATED:20250829T213636Z
LAST-MODIFIED:20250829T213642Z
UID:10000242-1756389600-1756393200@usercalendar.com
SUMMARY:The AI vs. Human Dilemma: How to Make the Right Call
DESCRIPTION:[URL of this listing: https://usercalendar.com/event/the-ai-vs-human-dilemma-how-to-make-the-right-call/] \n\n\n\nAI is no longer an experiment\, it’s shaping the core of how the world is designed\, built\, and experienced. But in a world where AI can be faster\, more consistent\, and even more personalized than humans\, how do you decide when to lead with AI and when to prioritize human touch? \n\n\n\nJoin Noam Segal\, trained as a psychologist\, seasoned research leader\, and coach to tech professionals\, for a practical conversation that helps teams answer this question. Drawing on behavioral science\, real-world examples\, and his bold predictions about the future of human experience\, Noam will unpack: \n\n\n\n\nThe decision framework for determining when research should be AI-first vs. human-first.\n\n\n\nSignals from user research that reveal “human non-negotiables”\, or the aspects of experience people will fight to keep human.\n\n\n\nHow to break default patterns in AI adoption. Why most teams are making AI integration decisions on autopilot\, and how to uncover bold opportunities\n\n\n\nLessons from leading high-impact research teams for creating a culture that challenges assumptions\, integrates AI intelligently\, and aligns cross-functionally\n\n\n\n\nYou’ll walk away with tools and examples you can apply immediately to your own product\, design and research decisions so you can move faster\, with more confidence\, in building experiences that drive adoption\, loyalty\, and business impact. \n\n\n\nRegister for free!
URL:https://usercalendar.com/event/the-ai-vs-human-dilemma-how-to-make-the-right-call/
CATEGORIES:Webinars
ATTACH;FMTTYPE=image/png:https://usercalendar.com/wp-content/uploads/2025/08/Noam-Segal-Webinar-1000x1000-2-scaled.png
END:VEVENT
END:VCALENDAR