BEGIN:VCALENDAR
VERSION:2.0
PRODID:-//All UX Research Events - ECPv6.14.2//NONSGML v1.0//EN
CALSCALE:GREGORIAN
METHOD:PUBLISH
X-ORIGINAL-URL:https://usercalendar.com
X-WR-CALDESC:Events for All UX Research Events
REFRESH-INTERVAL;VALUE=DURATION:PT1H
X-Robots-Tag:noindex
X-PUBLISHED-TTL:PT1H
BEGIN:VTIMEZONE
TZID:America/New_York
BEGIN:DAYLIGHT
TZOFFSETFROM:-0500
TZOFFSETTO:-0400
TZNAME:EDT
DTSTART:20250309T070000
END:DAYLIGHT
BEGIN:STANDARD
TZOFFSETFROM:-0400
TZOFFSETTO:-0500
TZNAME:EST
DTSTART:20251102T060000
END:STANDARD
END:VTIMEZONE
BEGIN:VEVENT
DTSTART;TZID=America/New_York:20250924T110000
DTEND;TZID=America/New_York:20250924T120000
DTSTAMP:20260424T083704
CREATED:20250829T214728Z
LAST-MODIFIED:20250829T214734Z
UID:10000243-1758711600-1758715200@usercalendar.com
SUMMARY:The Future of UX Research Is Strategic
DESCRIPTION:[URL of this listing: https://usercalendar.com/event/the-future-of-ux-research-is-strategic/] \n\n\n\nResearch isn’t the outcome\, it’s the output. And it’s really only impactful when paired with skills like effective ideation\, collaboration\, and communication. \n\n\n\nThe future of UX research lies in adopting a more strategic mindset. One that ensures research influences priorities\, shapes product direction\, and actually gets used. \n\n\n\nIn this session\, Sahar Chung\, Director of Product Strategy at Multiplayer\, will reveal why advancing in user research and being promoted to senior roles isn’t about mastering more methodologies. It’s about developing the storytelling and stakeholder management skills that give research a real seat at the table. \n\n\n\n*All registrants will receive the Meetup recording \n\n\n\nRegister for free!
URL:https://usercalendar.com/event/the-future-of-ux-research-is-strategic/
CATEGORIES:Career Development,Webinars
ATTACH;FMTTYPE=image/png:https://usercalendar.com/wp-content/uploads/2025/08/Meetup-with-Sahar-1.png
ORGANIZER;CN="Condens":MAILTO:hello@condens.io
END:VEVENT
END:VCALENDAR