BEGIN:VCALENDAR
VERSION:2.0
PRODID:-//All UX Research Events - ECPv6.14.2//NONSGML v1.0//EN
CALSCALE:GREGORIAN
METHOD:PUBLISH
X-ORIGINAL-URL:https://usercalendar.com
X-WR-CALDESC:Events for All UX Research Events
REFRESH-INTERVAL;VALUE=DURATION:PT1H
X-Robots-Tag:noindex
X-PUBLISHED-TTL:PT1H
BEGIN:VTIMEZONE
TZID:America/New_York
BEGIN:DAYLIGHT
TZOFFSETFROM:-0500
TZOFFSETTO:-0400
TZNAME:EDT
DTSTART:20250309T070000
END:DAYLIGHT
BEGIN:STANDARD
TZOFFSETFROM:-0400
TZOFFSETTO:-0500
TZNAME:EST
DTSTART:20251102T060000
END:STANDARD
END:VTIMEZONE
BEGIN:VEVENT
DTSTART;TZID=America/New_York:20251028T150000
DTEND;TZID=America/New_York:20251028T160000
DTSTAMP:20260424T060424
CREATED:20251024T080535Z
LAST-MODIFIED:20251024T080633Z
UID:10000263-1761663600-1761667200@usercalendar.com
SUMMARY:8 Pillars\, 8 Years Later: Data and Knowledge Management
DESCRIPTION:[URL of this listing: https://usercalendar.com/event/8-pillars-8-years-later-data-and-knowledge-management/] \n\n\n\n​In the fourth instalment of the 8 Pillars\, 8 Years Later series\, we’re checking in on what’s changed in the research repository space and the broader state of research knowledge management. Repositories have moved past their “shiny new thing” moment\, and teams are now facing the ongoing\, practical work of keeping research knowledge accessible\, visible\, and genuinely useful. \n\n\n\n​Join us as we explore:​The reality check on repositories​  \n\n\n\nAI’s impact on knowledge management​  \n\n\n\nThe expanding tool and solution-stack​Refocusing on outcomes and long-term value  \n\n\n\n​​Let’s talk about what it means to design research knowledge systems that are sustainable\, meaningful\, and truly support the flow of insights to the right people\, at the right time. \n\n\n\n​Featuring​​Johanna Jagow\, Strategic UX Researcher and UX Advisor​​  \n\n\n\nJake Burghardt\, Principal Consultant at Integrating Research and Author of Stop Wasting Research  \n\n\n\n​​Hosted by: The ReOps Community & Great QuestionModerated by: Holly Cole\, ResearchOps Community \n\n\n\nRegister for free!
URL:https://usercalendar.com/event/8-pillars-8-years-later-data-and-knowledge-management/
ATTACH;FMTTYPE=image/png:https://usercalendar.com/wp-content/uploads/2025/10/8-pillars-knowledge-management-webinar-hero-1-scaled.png
END:VEVENT
END:VCALENDAR