BEGIN:VCALENDAR
VERSION:2.0
PRODID:-//All UX Research Events - ECPv6.14.2//NONSGML v1.0//EN
CALSCALE:GREGORIAN
METHOD:PUBLISH
X-ORIGINAL-URL:https://usercalendar.com
X-WR-CALDESC:Events for All UX Research Events
REFRESH-INTERVAL;VALUE=DURATION:PT1H
X-Robots-Tag:noindex
X-PUBLISHED-TTL:PT1H
BEGIN:VTIMEZONE
TZID:America/New_York
BEGIN:DAYLIGHT
TZOFFSETFROM:-0500
TZOFFSETTO:-0400
TZNAME:EDT
DTSTART:20250309T070000
END:DAYLIGHT
BEGIN:STANDARD
TZOFFSETFROM:-0400
TZOFFSETTO:-0500
TZNAME:EST
DTSTART:20251102T060000
END:STANDARD
END:VTIMEZONE
BEGIN:VEVENT
DTSTART;TZID=America/New_York:20251107T020000
DTEND;TZID=America/New_York:20251107T110000
DTSTAMP:20260422T120718
CREATED:20250910T184407Z
LAST-MODIFIED:20250910T184413Z
UID:10000246-1762480800-1762513200@usercalendar.com
SUMMARY:[In-person] How to measure UX & design impact with Vitaly Friedman
DESCRIPTION:[URL of this listing: https://usercalendar.com/event/in-person-how-to-measure-ux-design-impact-with-vitaly-friedman/] \n\n\n\nHow do we measure the quality of UX? What metrics to use? How to bridge business objectives and UX goals? How to remove bias and guesswork from our design decisions? And how to measure and make a case for the impact of your UX work? \n\n\n\n7.11. the workshop will take place at FH Joanneum \n\n\n\n10.11. the workshop will take place at Technikum Wien Academy \n\n\n\nRegister \n\n\n\n  \n\n\n\n 
URL:https://usercalendar.com/event/in-person-how-to-measure-ux-design-impact-with-vitaly-friedman/
LOCATION:Universität Wien\, Universitätsring 1\, Vienna\, 1010\, Austria
ORGANIZER;CN="uxcon  vienna":MAILTO:hello@uxcon.at
END:VEVENT
END:VCALENDAR