BEGIN:VCALENDAR
VERSION:2.0
PRODID:-//All UX Research Events - ECPv6.14.2//NONSGML v1.0//EN
CALSCALE:GREGORIAN
METHOD:PUBLISH
X-ORIGINAL-URL:https://usercalendar.com
X-WR-CALDESC:Events for All UX Research Events
REFRESH-INTERVAL;VALUE=DURATION:PT1H
X-Robots-Tag:noindex
X-PUBLISHED-TTL:PT1H
BEGIN:VTIMEZONE
TZID:America/New_York
BEGIN:DAYLIGHT
TZOFFSETFROM:-0500
TZOFFSETTO:-0400
TZNAME:EDT
DTSTART:20250309T070000
END:DAYLIGHT
BEGIN:STANDARD
TZOFFSETFROM:-0400
TZOFFSETTO:-0500
TZNAME:EST
DTSTART:20251102T060000
END:STANDARD
END:VTIMEZONE
BEGIN:VEVENT
DTSTART;TZID=America/New_York:20251211T120000
DTEND;TZID=America/New_York:20251211T133000
DTSTAMP:20260420T095907
CREATED:20260212T223421Z
LAST-MODIFIED:20260212T223427Z
UID:10000271-1765454400-1765459800@usercalendar.com
SUMMARY:[Webinar] AI in UX Research: What experts think & use AI for
DESCRIPTION:[URL of this listing: https://usercalendar.com/event/webinar-ai-in-ux-research-what-experts-think-use-ai-for/] \n\n\n\n📆 Date: Dec 11\, 2025🕔 Time: 12:00 p.m. EST / 6:00 p.m. CET / 9:00 a.m. PST📍 Location: Online💸 Free event \n\n\n\n*** \n\n\n\n🎙 Speaker and topic: \n\n\n\nTopic: AI in UX Research: What experts think & use AI forSpeaker: Tadeas Adamjak\, Head of Growth at UXtweakModerator: Marek Štrba\, Enterprise UX consultant at UXtweak🧐 About the presentation: \n\n\n\nJoin us as we share findings from interviews with 9 industry leaders on exactly where AI delivers value in research workflows and where it falls short. The findings are based on our AI in UXR Revisit Report . \n\n\n\nYou’ll learn: \n\n\n\n\nWhere UX experts use AI in 2025 and where they avoid it\n\n\n\nPractical boundaries top researchers use to stay efficient without compromising quality\n\n\n\nHow to counter stakeholders who want to replace real research with AI\n\n\n\nUse cases for AI-based (synthetic) participants\n\n\n\n5-year predictions on the future of AI in UXR\n\n\n\n\n 
URL:https://usercalendar.com/event/webinar-ai-in-ux-research-what-experts-think-use-ai-for/
CATEGORIES:Research Talks,Webinars
ATTACH;FMTTYPE=image/png:https://usercalendar.com/wp-content/uploads/2025/11/LN-Cover-16-scaled.png
ORGANIZER;CN="UXtweak":MAILTO:info@uxtweak.com
END:VEVENT
END:VCALENDAR