BEGIN:VCALENDAR
VERSION:2.0
PRODID:-//All UX Research Events - ECPv6.14.2//NONSGML v1.0//EN
CALSCALE:GREGORIAN
METHOD:PUBLISH
X-WR-CALNAME:All UX Research Events
X-ORIGINAL-URL:https://usercalendar.com
X-WR-CALDESC:Events for All UX Research Events
REFRESH-INTERVAL;VALUE=DURATION:PT1H
X-Robots-Tag:noindex
X-PUBLISHED-TTL:PT1H
BEGIN:VTIMEZONE
TZID:America/New_York
BEGIN:DAYLIGHT
TZOFFSETFROM:-0500
TZOFFSETTO:-0400
TZNAME:EDT
DTSTART:20240310T070000
END:DAYLIGHT
BEGIN:STANDARD
TZOFFSETFROM:-0400
TZOFFSETTO:-0500
TZNAME:EST
DTSTART:20241103T060000
END:STANDARD
END:VTIMEZONE
BEGIN:VEVENT
DTSTART;TZID=America/New_York:20241113T140000
DTEND;TZID=America/New_York:20241113T150000
DTSTAMP:20260424T113614
CREATED:20241022T105019Z
LAST-MODIFIED:20241022T105021Z
UID:10000160-1731506400-1731510000@usercalendar.com
SUMMARY:Building a UX Tech Stack: A Case Study with Calendly
DESCRIPTION:[Link to this listing: https://usercalendar.com/event/building-a-ux-tech-stack-a-case-study-with-calendly/] \n\n\n\nTools help UX professionals get their jobs done. But because there are more tools than ever\, it can be hard to know which ones work better together for maximum research impact. \n\n\n\nGordon Toon\, Calendly’s Manager of Design and Product Research\, has built many UX tool stacks\, giving him hands on experience and know-how. In this webinar\, he walks through his process for designing\, selecting\, and implementing his team’s UX tool stack. \n\n\n\nGordon will focus on how his team uses research recruitment and product experience tools in particular to enable stakeholder involvement and education—expanding the reach of customer insights. \n\n\n\nJoin this webinar to: \n\n\n\n\n🛠️ Learn the foundations of a robust UX tool stack\n\n\n\n🔎 Hear how Gordon evaluates UX research platforms\n\n\n\n🏃 See how his stack empowers colleagues to act\n\n\n\n\nThere will be time for questions and even networking\, so be sure to join us live! \n\n\n\n➡️ Register for free
URL:https://usercalendar.com/event/building-a-ux-tech-stack-a-case-study-with-calendly/
CATEGORIES:Case Studies,Tech Demos,Webinars,Workshops
ATTACH;FMTTYPE=image/jpeg:https://usercalendar.com/wp-content/uploads/2024/10/34.jpg
ORGANIZER;CN="User Interviews":MAILTO:jackie@userinterviews.com
END:VEVENT
END:VCALENDAR