BEGIN:VCALENDAR
VERSION:2.0
PRODID:-//All UX Research Events - ECPv6.14.2//NONSGML v1.0//EN
CALSCALE:GREGORIAN
METHOD:PUBLISH
X-WR-CALNAME:All UX Research Events
X-ORIGINAL-URL:https://usercalendar.com
X-WR-CALDESC:Events for All UX Research Events
REFRESH-INTERVAL;VALUE=DURATION:PT1H
X-Robots-Tag:noindex
X-PUBLISHED-TTL:PT1H
BEGIN:VTIMEZONE
TZID:America/New_York
BEGIN:DAYLIGHT
TZOFFSETFROM:-0500
TZOFFSETTO:-0400
TZNAME:EDT
DTSTART:20250309T070000
END:DAYLIGHT
BEGIN:STANDARD
TZOFFSETFROM:-0400
TZOFFSETTO:-0500
TZNAME:EST
DTSTART:20251102T060000
END:STANDARD
END:VTIMEZONE
BEGIN:VEVENT
DTSTART;TZID=America/New_York:20250507T120000
DTEND;TZID=America/New_York:20250507T130000
DTSTAMP:20260423T071906
CREATED:20250429T225714Z
LAST-MODIFIED:20250429T230203Z
UID:10000212-1746619200-1746622800@usercalendar.com
SUMMARY:Why Repositories Fail - And How to Get it Right
DESCRIPTION:[URL of this listing: https://usercalendar.com/event/why-repositories-fail-and-how-to-get-it-right/] \nResearch repositories are a staple in a UX researcher’s toolkit. They hold the promise of making insights more accessible\, reusable\, and influential. Yet despite this promise\, we hear more about how easily they fail. \nSo how should one go about setting up or revamping their repository in 2025? Not to mention with AI expanding its domain\, how does it play a role in the repository of the future? \nMay 7th – 9 am Pacific Time \nAgenda \n\nThe true role UX research repositories play in your business\nWhy UX research repositories are still failing\n\n\n\n\n\n\n\n\n\n\n\n\n\nHow repositories are evolving and why AI is the catalyst\n\n\n\n\n\n\n\n\n\n\n\n\n\n\n \n\n\n\n\nJoin Emily DiLeo\, UXR knowledge management strategist and founder of The Current\, and Jake Burghardt\, product research thought leader and author of “Stop Wasting Research\,” as we explore these big questions in a 45-minute fireside chat and 15-minute Q&A.\n \n \n \n \n \n \nRegister for free here —> Link\n \n \n \n \nCan’t attend? Sign up and we’ll send the recording straight to your inbox after the event
URL:https://usercalendar.com/event/why-repositories-fail-and-how-to-get-it-right/
LOCATION:Remote
CATEGORIES:Panels,Research Talks,Webinars
ATTACH;FMTTYPE=image/png:https://usercalendar.com/wp-content/uploads/2025/04/Group-10-2-min.png
ORGANIZER;CN="Stravito":MAILTO:hasan@stravito.com
END:VEVENT
END:VCALENDAR