BEGIN:VCALENDAR
VERSION:2.0
PRODID:-//All UX Research Events - ECPv6.14.2//NONSGML v1.0//EN
CALSCALE:GREGORIAN
METHOD:PUBLISH
X-ORIGINAL-URL:https://usercalendar.com
X-WR-CALDESC:Events for All UX Research Events
REFRESH-INTERVAL;VALUE=DURATION:PT1H
X-Robots-Tag:noindex
X-PUBLISHED-TTL:PT1H
BEGIN:VTIMEZONE
TZID:America/New_York
BEGIN:DAYLIGHT
TZOFFSETFROM:-0500
TZOFFSETTO:-0400
TZNAME:EDT
DTSTART:20250309T070000
END:DAYLIGHT
BEGIN:STANDARD
TZOFFSETFROM:-0400
TZOFFSETTO:-0500
TZNAME:EST
DTSTART:20251102T060000
END:STANDARD
END:VTIMEZONE
BEGIN:VEVENT
DTSTART;TZID=America/New_York:20250529T140000
DTEND;TZID=America/New_York:20250529T150000
DTSTAMP:20260423T131143
CREATED:20250522T184845Z
LAST-MODIFIED:20250522T184850Z
UID:10000219-1748527200-1748530800@usercalendar.com
SUMMARY:The ROI Framework for Research Teams
DESCRIPTION:[URL of this listing: https://usercalendar.com/event/the-roi-framework-for-research-teams/]  \n\n\n\n​Join Great Question’s Co-Founder and CEO Ned Dwyer and UX research expert Trevor Calabro as they dive into Trevor’s 5-step framework for calculating the ROI of UX research and how it can be adapted for different roles across teams. \n\n\n\n​As budgets tighten and expectations for impact rise\, the pressure is on for researchers and people who do research to demonstrate the value of their work. Trevor will walk us through his tactical approach to tying research efforts directly to business metrics\, and what organizations stand to gain when they consistently measure ROI well. \n\n\n\n​Attendees will gain: \n\n\n\n\n​A clear understanding of why research ROI is becoming a critical conversation across orgs.\n\n\n\n​Deeper insight into Trevor’s tactical 5-step-framework for calculating ROI of UX research.\n\n\n\n​How to adapt ROI calculations across roles and industries.\n\n\n\n​Real examples of how teams have nailed tying research efforts to business outcomes.\n\n\n\n\n​This session is perfect for UX researchers\, research ops pros\, product designers\, and PMs who want to build stronger business cases for research and scale research impact across teams. Whether you’re in a mature research org or just getting started\, you’ll leave with actionable guidance to bring back to your team. \n\n\n\nRegister for free!
URL:https://usercalendar.com/event/the-roi-framework-for-research-teams/
CATEGORIES:Webinars
ATTACH;FMTTYPE=image/png:https://usercalendar.com/wp-content/uploads/2025/05/Trevor-Webinar-10-1-scaled.png
END:VEVENT
END:VCALENDAR