BEGIN:VCALENDAR
VERSION:2.0
PRODID:-//All UX Research Events - ECPv6.14.2//NONSGML v1.0//EN
CALSCALE:GREGORIAN
METHOD:PUBLISH
X-WR-CALNAME:All UX Research Events
X-ORIGINAL-URL:https://usercalendar.com
X-WR-CALDESC:Events for All UX Research Events
REFRESH-INTERVAL;VALUE=DURATION:PT1H
X-Robots-Tag:noindex
X-PUBLISHED-TTL:PT1H
BEGIN:VTIMEZONE
TZID:America/New_York
BEGIN:DAYLIGHT
TZOFFSETFROM:-0500
TZOFFSETTO:-0400
TZNAME:EDT
DTSTART:20250309T070000
END:DAYLIGHT
BEGIN:STANDARD
TZOFFSETFROM:-0400
TZOFFSETTO:-0500
TZNAME:EST
DTSTART:20251102T060000
END:STANDARD
END:VTIMEZONE
BEGIN:VEVENT
DTSTART;TZID=America/New_York:20250604T110000
DTEND;TZID=America/New_York:20250604T120000
DTSTAMP:20260423T130914
CREATED:20250509T011903Z
LAST-MODIFIED:20250509T011905Z
UID:10000214-1749034800-1749038400@usercalendar.com
SUMMARY:How AI Is Reshaping the Repository Journey
DESCRIPTION:[URL of this listing: https://usercalendar.com/event/how-ai-is-reshaping-the-repository-journey/] \n\n\n\nResearch repositories are a powerful multi-purpose tool that help create a single source of truth for research and make data accessible across teams. \n\n\n\nNow throw AI into the mix and you’ve got a whole new experience! \n\n\n\nJoin us for a chat with Emily DiLeo to explore how the introduction of AI to repositories is reshaping how researchers work with taxonomies\, discover research\, share insights with stakeholders\, and more! \n\n\n\n*All registrants will receive a recording of the session. \n\n\n\nRegister for free!
URL:https://usercalendar.com/event/how-ai-is-reshaping-the-repository-journey/
CATEGORIES:Research Talks,Webinars
ATTACH;FMTTYPE=image/png:https://usercalendar.com/wp-content/uploads/2025/05/Meetup-with-Emily-Header.png
ORGANIZER;CN="Condens":MAILTO:hello@condens.io
END:VEVENT
BEGIN:VEVENT
DTSTART;TZID=America/New_York:20250604T120000
DTEND;TZID=America/New_York:20250604T130000
DTSTAMP:20260423T130914
CREATED:20250604T185348Z
LAST-MODIFIED:20250604T185353Z
UID:10000221-1749038400-1749042000@usercalendar.com
SUMMARY:AI minus UX: A Cautionary Tale
DESCRIPTION:[URL of this listing: https://usercalendar.com/event/ai-minus-ux-a-cautionary-tale/] \n\n\n\nContinuing our summer of AI-specific sessions\, we’ll be hearing from Lauren Zack\, an award winning senior leader in User Experience (UX)\, User Research\, User Interaction Design and Usability Engineering. In this session\, Lauren will look at what happens when you deploy AI without considering the humans who need to use it. \n\n\n\nIn the case study Lauren will examine\, the leading company was trying to streamline the title search process\, which traditionally involves extensive manual work and is often extremely time-consuming. \n\n\n\nRegister for free!
URL:https://usercalendar.com/event/ai-minus-ux-a-cautionary-tale/
CATEGORIES:Case Studies,Research Talks
ATTACH;FMTTYPE=image/jpeg:https://usercalendar.com/wp-content/uploads/2025/06/06042025-Lauren-Zack-3-1.jpg
END:VEVENT
END:VCALENDAR