BEGIN:VCALENDAR
VERSION:2.0
PRODID:-//All UX Research Events - ECPv6.14.2//NONSGML v1.0//EN
CALSCALE:GREGORIAN
METHOD:PUBLISH
X-WR-CALNAME:All UX Research Events
X-ORIGINAL-URL:https://usercalendar.com
X-WR-CALDESC:Events for All UX Research Events
REFRESH-INTERVAL;VALUE=DURATION:PT1H
X-Robots-Tag:noindex
X-PUBLISHED-TTL:PT1H
BEGIN:VTIMEZONE
TZID:America/New_York
BEGIN:DAYLIGHT
TZOFFSETFROM:-0500
TZOFFSETTO:-0400
TZNAME:EDT
DTSTART:20250309T070000
END:DAYLIGHT
BEGIN:STANDARD
TZOFFSETFROM:-0400
TZOFFSETTO:-0500
TZNAME:EST
DTSTART:20251102T060000
END:STANDARD
END:VTIMEZONE
BEGIN:VEVENT
DTSTART;TZID=America/New_York:20250615T030000
DTEND;TZID=America/New_York:20250617T120000
DTSTAMP:20260424T081947
CREATED:20250919T190732Z
LAST-MODIFIED:20250919T190738Z
UID:10000241-1749956400-1750161600@usercalendar.com
SUMMARY:2nd International Conference on Applied Science\, Engineering and Technology
DESCRIPTION:The 2nd International conference on Applied Science\, Engineering and Technology (ICAET2026)\, organized by Conplus Meeting will be held on June 15-17\, 2026 in Florence\, Italy.\n\nICAET2026 represent vital gatherings that unite experts and enthusiasts from diverse disciplines worldwide. These events serve as dynamic forums where cutting-edge research\, technological advancements\, and practical applications converge to address global challenges and foster innovation.\n\nApplied sciences such as Physics\, Chemistry\, Biology\, Environmental Science\, and Materials Science contribute to innovative solutions addressing global challenges. Concurrently\, Engineering disciplines encompass Civil\, Mechanical\, Electrical\, Chemical\, and Biomedical Engineering\, among others\, focusing on designing and implementing real-world solutions. Technology fields\, including Computer Science\, Information Technology\, Robotics\, Artificial Intelligence\, and Data Science\, Drive Digital Innovation and System Advancements\, shaping the future of technological applications and interdisciplinary collaborations in these dynamic conferences.\n\nJoin us at ICAET2026 in Florence\, Italy for a truly unforgettable experience!\n\nBest Regards\,\nLakshmi Prasanna | Program Coordinator\nICAET2026
URL:https://usercalendar.com/event/2nd-international-conference-on-applied-science-engineering-and-technology/
LOCATION:Florence\, Italy\, Florence\, Italy\, Florence\, Italy\, 50121\, Italy
ATTACH;FMTTYPE=image/jpeg:https://usercalendar.com/wp-content/uploads/2025/08/Conference-Details-Poster-1.2-mb-scaled.jpg
ORGANIZER;CN="Conplus Meeting":MAILTO:icaet@conplusmeetings.com
END:VEVENT
BEGIN:VEVENT
DTSTART;TZID=America/New_York:20250617T130000
DTEND;TZID=America/New_York:20250617T140000
DTSTAMP:20260424T081947
CREATED:20250605T002526Z
LAST-MODIFIED:20250605T002533Z
UID:10000223-1750165200-1750168800@usercalendar.com
SUMMARY:The UX of AI: Research-Backed Best Practices for Designing AI Interfaces
DESCRIPTION:[URL of this listing: https://usercalendar.com/event/the-ux-of-ai-research-backed-best-practices-for-designing-ai-interfaces/] \n\n\n\n​AI-powered features are becoming more embedded in everyday products. Yet\, users struggle to find\, trust\, and effectively use AI-powered interfaces\, leading to missed opportunities and frustrating experiences. \n\n\n\n​In this session\, Kate Moran\, VP of Research & Content at Nielsen Norman Group\, will share practical\, research-backed insights on how UX researchers and designers can evaluate and improve AI-driven experiences. \n\n\n\n​Kate will break down: \n\n\n\n\n​Why AI feature discoverability is a major issue\, and how research can help solve it\n\n\n\n​How to approach AI explainability and trust\, ensuring users understand and feel confident in AI outputs\n\n\n\n​Best practices for usability testing of AI features\n\n\n\n\n​This session is perfect for UX researchers\, designers\, and product teams embedding AI-powered features in their product. Whether you’re already testing AI usability or just getting started\, you’ll leave with tactical guidance for making AI experiences more user-friendly and effective. \n\n\n\nRegister for free!
URL:https://usercalendar.com/event/the-ux-of-ai-research-backed-best-practices-for-designing-ai-interfaces/
CATEGORIES:Webinars
ATTACH;FMTTYPE=image/png:https://usercalendar.com/wp-content/uploads/2025/06/Kate-Webinar-1000x1000-2-scaled.png
END:VEVENT
END:VCALENDAR